BEGIN:VCALENDAR
VERSION:2.0
PRODID:icalendar-ruby
CALSCALE:GREGORIAN
BEGIN:VEVENT
DTSTAMP:20260419T172921Z
UID:37b003c3-aa18-46ec-aa84-d65f58cb6da8
DTSTART;VALUE=DATE:20221217
DESCRIPTION:Property ID# 792326\, Locatoin: ON SITE\, Time: 2:00PM
SUMMARY:Auction for 
END:VEVENT
END:VCALENDAR
