BEGIN:VCALENDAR
VERSION:2.0
PRODID:icalendar-ruby
CALSCALE:GREGORIAN
BEGIN:VEVENT
DTSTAMP:20210227T165233Z
UID:38c8c287-ee15-47b3-bb71-6d04140f2009
DTSTART;VALUE=DATE:20201101
DESCRIPTION:Property ID# 655769\, Time: 11:00AM
SUMMARY:Auction for 
END:VEVENT
END:VCALENDAR
